BEGIN:VCALENDAR
PRODID:-//cotech.no//iCalendar MIMEDIR//EN
VERSION:2.0
METHOD:PUBLISH
BEGIN:VEVENT

DTSTART:20190415T090000Z
DTEND:20190418T140000Z
LOCATION:Portway Lifestyle Centre
CATEGORIES:
TRANSP:OPAQUE
SEQUENCE:0
UID:RFCALITEM639125426982827623
DTSTAMP:20190415T090000Z
DESCRIPTION;ENCODING=QUOTED-PRINTABLE:
SUMMARY:Camp Portway One Albion Disability Multi Sports week 1 Easter Half Term 2019

PRIORITY:5
CLASS:PUBLIC
BEGIN:VALARM
TRIGGER:PT15M
ACTION:DISPLAY
DESCRIPTION:Reminder
PRIORITY:5
END:VALARM
END:VEVENT
END:VCALENDAR
