BEGIN:VCALENDAR
PRODID:-//cotech.no//iCalendar MIMEDIR//EN
VERSION:2.0
METHOD:PUBLISH
BEGIN:VEVENT

DTSTART:20190424T093000Z
DTEND:20190426T140000Z
LOCATION:Portway Lifestyle Centre
CATEGORIES:
TRANSP:OPAQUE
SEQUENCE:0
UID:RFCALITEM639125424946932650
DTSTAMP:20190424T093000Z
DESCRIPTION;ENCODING=QUOTED-PRINTABLE:
SUMMARY:Camp Portway One Albion Disability Multi Sports week 2 Easter Half Term 2019

PRIORITY:5
CLASS:PUBLIC
BEGIN:VALARM
TRIGGER:PT15M
ACTION:DISPLAY
DESCRIPTION:Reminder
PRIORITY:5
END:VALARM
END:VEVENT
END:VCALENDAR
