BEGIN:VCALENDAR
PRODID:-//cotech.no//iCalendar MIMEDIR//EN
VERSION:2.0
METHOD:PUBLISH
BEGIN:VEVENT

DTSTART:20190913T160000Z
DTEND:20191213T180000Z
LOCATION:The Albion Foundation Community Sports Hall
CATEGORIES:
TRANSP:OPAQUE
SEQUENCE:0
UID:RFCALITEM639125647707249601
DTSTAMP:20190913T160000Z
DESCRIPTION;ENCODING=QUOTED-PRINTABLE:
SUMMARY:Pre-Academy - U5 to U6

PRIORITY:5
CLASS:PUBLIC
BEGIN:VALARM
TRIGGER:PT15M
ACTION:DISPLAY
DESCRIPTION:Reminder
PRIORITY:5
END:VALARM
END:VEVENT
END:VCALENDAR
