BEGIN:VCALENDAR
PRODID:-//cotech.no//iCalendar MIMEDIR//EN
VERSION:2.0
METHOD:PUBLISH
BEGIN:VEVENT

DTSTART:20200401T080000Z
DTEND:20200404T140000Z
LOCATION:The Albion Foundation Community Sports Hall
CATEGORIES:
TRANSP:OPAQUE
SEQUENCE:0
UID:RFCALITEM639125424712165411
DTSTAMP:20200401T080000Z
DESCRIPTION;ENCODING=QUOTED-PRINTABLE:
SUMMARY:Cycle Challenge

PRIORITY:5
CLASS:PUBLIC
BEGIN:VALARM
TRIGGER:PT15M
ACTION:DISPLAY
DESCRIPTION:Reminder
PRIORITY:5
END:VALARM
END:VEVENT
END:VCALENDAR
