BEGIN:VCALENDAR
PRODID:-//cotech.no//iCalendar MIMEDIR//EN
VERSION:2.0
METHOD:PUBLISH
BEGIN:VEVENT

DTSTART:20200522T090000Z
DTEND:20200522T200000Z
LOCATION:Edgbaston Golf Club
CATEGORIES:
TRANSP:OPAQUE
SEQUENCE:0
UID:RFCALITEM639125302282095585
DTSTAMP:20200522T090000Z
DESCRIPTION;ENCODING=QUOTED-PRINTABLE:
SUMMARY:The Albion Foundation Golf Day

PRIORITY:5
CLASS:PUBLIC
BEGIN:VALARM
TRIGGER:PT15M
ACTION:DISPLAY
DESCRIPTION:Reminder
PRIORITY:5
END:VALARM
END:VEVENT
END:VCALENDAR
