BEGIN:VCALENDAR
PRODID:-//cotech.no//iCalendar MIMEDIR//EN
VERSION:2.0
METHOD:PUBLISH
BEGIN:VEVENT

DTSTART:20190930T160000Z
DTEND:20190930T180000Z
LOCATION:George Salter Academy
CATEGORIES:
TRANSP:OPAQUE
SEQUENCE:0
UID:RFCALITEM639125370298435245
DTSTAMP:20190930T160000Z
DESCRIPTION;ENCODING=QUOTED-PRINTABLE:
SUMMARY:Girls Player Development Centre Open trial

PRIORITY:5
CLASS:PUBLIC
BEGIN:VALARM
TRIGGER:PT15M
ACTION:DISPLAY
DESCRIPTION:Reminder
PRIORITY:5
END:VALARM
END:VEVENT
END:VCALENDAR
