BEGIN:VCALENDAR
PRODID:-//cotech.no//iCalendar MIMEDIR//EN
VERSION:2.0
METHOD:PUBLISH
BEGIN:VEVENT

DTSTART:20200218T100000Z
DTEND:20200218T140000Z
LOCATION:The Streetly Academy
CATEGORIES:
TRANSP:OPAQUE
SEQUENCE:0
UID:RFCALITEM639125244787823113
DTSTAMP:20200218T100000Z
DESCRIPTION;ENCODING=QUOTED-PRINTABLE:
SUMMARY:One Albion February SEND Multi- Sports Camp

PRIORITY:5
CLASS:PUBLIC
BEGIN:VALARM
TRIGGER:PT15M
ACTION:DISPLAY
DESCRIPTION:Reminder
PRIORITY:5
END:VALARM
END:VEVENT
END:VCALENDAR
