BEGIN:VCALENDAR
PRODID:-//cotech.no//iCalendar MIMEDIR//EN
VERSION:2.0
METHOD:PUBLISH
BEGIN:VEVENT

DTSTART:20200515T150000Z
DTEND:20210607T150000Z
LOCATION:N/A
CATEGORIES:
TRANSP:OPAQUE
SEQUENCE:0
UID:RFCALITEM639125249100903606
DTSTAMP:20200515T150000Z
DESCRIPTION;ENCODING=QUOTED-PRINTABLE:
SUMMARY:West Bromwich Albion Women FC & RTC Girls Centre  - Expression of Interest

PRIORITY:5
CLASS:PUBLIC
BEGIN:VALARM
TRIGGER:PT15M
ACTION:DISPLAY
DESCRIPTION:Reminder
PRIORITY:5
END:VALARM
END:VEVENT
END:VCALENDAR
