BEGIN:VCALENDAR
PRODID:-//cotech.no//iCalendar MIMEDIR//EN
VERSION:2.0
METHOD:PUBLISH
BEGIN:VEVENT

DTSTART:20200907T171500Z
DTEND:20201214T191500Z
LOCATION:Malvern Active College
CATEGORIES:
TRANSP:OPAQUE
SEQUENCE:0
UID:RFCALITEM639125932611769499
DTSTAMP:20200907T171500Z
DESCRIPTION;ENCODING=QUOTED-PRINTABLE:
SUMMARY:Malvern Player Development Centre - Ages 4-8

PRIORITY:5
CLASS:PUBLIC
BEGIN:VALARM
TRIGGER:PT15M
ACTION:DISPLAY
DESCRIPTION:Reminder
PRIORITY:5
END:VALARM
END:VEVENT
END:VCALENDAR
