BEGIN:VCALENDAR
PRODID:-//cotech.no//iCalendar MIMEDIR//EN
VERSION:2.0
METHOD:PUBLISH
BEGIN:VEVENT

DTSTART:20200907T181500Z
DTEND:20201214T201500Z
LOCATION:Malvern Active College
CATEGORIES:
TRANSP:OPAQUE
SEQUENCE:0
UID:RFCALITEM639125934342452697
DTSTAMP:20200907T181500Z
DESCRIPTION;ENCODING=QUOTED-PRINTABLE:
SUMMARY:Malvern Player Development Centre - Ages 9-12

PRIORITY:5
CLASS:PUBLIC
BEGIN:VALARM
TRIGGER:PT15M
ACTION:DISPLAY
DESCRIPTION:Reminder
PRIORITY:5
END:VALARM
END:VEVENT
END:VCALENDAR
