BEGIN:VCALENDAR
PRODID:-//cotech.no//iCalendar MIMEDIR//EN
VERSION:2.0
METHOD:PUBLISH
BEGIN:VEVENT

DTSTART:20200910T170000Z
DTEND:20201217T190000Z
LOCATION:Redhill School
CATEGORIES:
TRANSP:OPAQUE
SEQUENCE:0
UID:RFCALITEM639125933063214661
DTSTAMP:20200910T170000Z
DESCRIPTION;ENCODING=QUOTED-PRINTABLE:
SUMMARY:Redhill Player Development Centre - Ages 4-8

PRIORITY:5
CLASS:PUBLIC
BEGIN:VALARM
TRIGGER:PT15M
ACTION:DISPLAY
DESCRIPTION:Reminder
PRIORITY:5
END:VALARM
END:VEVENT
END:VCALENDAR
