BEGIN:VCALENDAR
PRODID:-//cotech.no//iCalendar MIMEDIR//EN
VERSION:2.0
METHOD:PUBLISH
BEGIN:VEVENT

DTSTART:20200925T160000Z
DTEND:20201218T180000Z
LOCATION:The Albion Foundation Community Sports Hall
CATEGORIES:
TRANSP:OPAQUE
SEQUENCE:0
UID:RFCALITEM639123627908544540
DTSTAMP:20200925T160000Z
DESCRIPTION;ENCODING=QUOTED-PRINTABLE:
SUMMARY:Pre Academy Sportshall - Ages 4-6

PRIORITY:5
CLASS:PUBLIC
BEGIN:VALARM
TRIGGER:PT15M
ACTION:DISPLAY
DESCRIPTION:Reminder
PRIORITY:5
END:VALARM
END:VEVENT
END:VCALENDAR
