BEGIN:VCALENDAR
PRODID:-//cotech.no//iCalendar MIMEDIR//EN
VERSION:2.0
METHOD:PUBLISH
BEGIN:VEVENT

DTSTART:20200924T170000Z
DTEND:20201217T190000Z
LOCATION:The Albion Foundation Community Sports Hall
CATEGORIES:
TRANSP:OPAQUE
SEQUENCE:0
UID:RFCALITEM639123630854439830
DTSTAMP:20200924T170000Z
DESCRIPTION;ENCODING=QUOTED-PRINTABLE:
SUMMARY:Futsal Player Development Centre - Ages 9-12

PRIORITY:5
CLASS:PUBLIC
BEGIN:VALARM
TRIGGER:PT15M
ACTION:DISPLAY
DESCRIPTION:Reminder
PRIORITY:5
END:VALARM
END:VEVENT
END:VCALENDAR
