BEGIN:VCALENDAR
PRODID:-//cotech.no//iCalendar MIMEDIR//EN
VERSION:2.0
METHOD:PUBLISH
BEGIN:VEVENT

DTSTART:20210603T083000Z
DTEND:20210603T143000Z
LOCATION:Avery Fields Sports and Events
CATEGORIES:
TRANSP:OPAQUE
SEQUENCE:0
UID:RFCALITEM639126872204178161
DTSTAMP:20210603T083000Z
DESCRIPTION;ENCODING=QUOTED-PRINTABLE:
SUMMARY:Junior Premier League Whitsun Trials

PRIORITY:5
CLASS:PUBLIC
BEGIN:VALARM
TRIGGER:PT15M
ACTION:DISPLAY
DESCRIPTION:Reminder
PRIORITY:5
END:VALARM
END:VEVENT
END:VCALENDAR
