BEGIN:VCALENDAR
PRODID:-//cotech.no//iCalendar MIMEDIR//EN
VERSION:2.0
METHOD:PUBLISH
BEGIN:VEVENT

DTSTART:20210130T120000Z
DTEND:20210130T124500Z
LOCATION:Zoom
CATEGORIES:
TRANSP:OPAQUE
SEQUENCE:0
UID:RFCALITEM639123054142491308
DTSTAMP:20210130T120000Z
DESCRIPTION;ENCODING=QUOTED-PRINTABLE:
SUMMARY:WBA v Fulham Match Day - Baggies Boing Zone Fitness Session

PRIORITY:5
CLASS:PUBLIC
BEGIN:VALARM
TRIGGER:PT15M
ACTION:DISPLAY
DESCRIPTION:Reminder
PRIORITY:5
END:VALARM
END:VEVENT
END:VCALENDAR
